BEGIN:VCALENDAR
PRODID:-//kirchenweb.ch gmbh//veranstaltungsausgabe v2.0//DE
VERSION:2.0
METHOD:PUBLISH
BEGIN:VEVENT
DTSTART:20260603T093000Z
DTEND:20260603T140000Z
LOCATION:Péry Salle de paroisse\, Rue du Collège 12\, 2603 Péry-La
  Heutte
TRANSP:OPAQUE
SEQUENCE:0
UID:999-veranstaltung@paroisse-rondchatel.ch
DTSTAMP:20260105T144410Z
DESCRIPTION:Repas mensuel des aînés de Péry-La Heutte à la salle de
  paroisse de Péry. \nIl est nécessaire de s’inscrire auprès de la
  responsable pour les repas-rencontre.\n\nKontakt: Pour tout
  renseignements et pour vous inscrire\, merci de vous adresser à\nGarance
  Wermeille au 032 485 10 27 ou par whatsapp au 077 522 82 65.\n\nWeitere
  Infos: https://www.paroisse-rondchatel.ch/veranstaltung/999
SUMMARY:Repas des aînés à Péry
PRIORITY:5
X-MICROSOFT-CDO-IMPORTANCE:1
CLASS:PUBLIC
END:VEVENT
END:VCALENDAR
