BEGIN:VCALENDAR
PRODID:-//kirchenweb.ch gmbh//veranstaltungsausgabe v2.0//DE
VERSION:2.0
METHOD:PUBLISH
BEGIN:VEVENT
DTSTART:20260501T180000Z
DTEND:20260501T200000Z
LOCATION:Péry Salle de paroisse\, Rue du Collège 12\, 2603 Péry-La
  Heutte
TRANSP:OPAQUE
SEQUENCE:0
UID:987-veranstaltung@paroisse-rondchatel.ch
DTSTAMP:20251215T144332Z
DESCRIPTION:Kontakt: claire-lise.bourquin@paroisse-rondchatel.ch\n
 \nWeitere Infos: https://www.paroisse-rondchatel.ch/veranstaltung/987
SUMMARY:Mini-cours d'initiation à l'hébreu biblique
PRIORITY:5
X-MICROSOFT-CDO-IMPORTANCE:1
CLASS:PUBLIC
END:VEVENT
END:VCALENDAR
