BEGIN:VCALENDAR
PRODID:-//kirchenweb.ch gmbh//veranstaltungsausgabe v2.0//DE
VERSION:2.0
METHOD:PUBLISH
BEGIN:VEVENT
DTSTART:20260419T080000Z
DTEND:20260419T090000Z
LOCATION:Péry Eglise\, Rue du Montoz\, 2603 Péry-La Heutte
TRANSP:OPAQUE
SEQUENCE:0
UID:933-veranstaltung@paroisse-rondchatel.ch
DTSTAMP:20260327T224549Z
DESCRIPTION:Kontakt: claire-lise.bourquin@paroisse-rondchatel.ch\n
 \nWeitere Infos: https://www.paroisse-rondchatel.ch/veranstaltung/933
SUMMARY:Culte en allemand
PRIORITY:5
X-MICROSOFT-CDO-IMPORTANCE:1
CLASS:PUBLIC
END:VEVENT
END:VCALENDAR
