BEGIN:VCALENDAR
PRODID:-//kirchenweb.ch gmbh//veranstaltungsausgabe v2.0//DE
VERSION:2.0
METHOD:PUBLISH
BEGIN:VEVENT
DTSTART;VALUE=DATE:20260509
DTEND;VALUE=DATE:20260510
LOCATION:Paris\, \,
TRANSP:OPAQUE
SEQUENCE:0
UID:893-veranstaltung@paroisse-rondchatel.ch
DTSTAMP:20260223T155330Z
DESCRIPTION:"Osez la vie"\n\nKontakt: Valérie Gafa\n\nAnne Noverraz\n
 \nWeitere Infos: https://www.paroisse-rondchatel.ch/veranstaltung/893
SUMMARY:Cycle III 11H camp de confirmation
PRIORITY:5
X-MICROSOFT-CDO-IMPORTANCE:1
CLASS:PUBLIC
END:VEVENT
END:VCALENDAR
