BEGIN:VCALENDAR
PRODID:-//kirchenweb.ch gmbh//veranstaltungsausgabe v2.0//DE
VERSION:2.0
METHOD:PUBLISH
BEGIN:VEVENT
DTSTART:20260425T070000Z
DTEND:20260425T100000Z
LOCATION:Orvin Grain de Sel\, Longchamps\, 2534 Orvin
TRANSP:OPAQUE
SEQUENCE:0
UID:892-veranstaltung@paroisse-rondchatel.ch
DTSTAMP:20250821T140438Z
DESCRIPTION:En route pour le camp.\nA 11h00 les parents nous rejoignent.\n
 \nKontakt: Valérie Gafa\n\nAnne Noverraz\n\nWeitere Infos:
  https://www.paroisse-rondchatel.ch/veranstaltung/892
SUMMARY:Cycle III 11H en route pour le camp
PRIORITY:5
X-MICROSOFT-CDO-IMPORTANCE:1
CLASS:PUBLIC
END:VEVENT
END:VCALENDAR
