BEGIN:VCALENDAR
PRODID:-//kirchenweb.ch gmbh//veranstaltungsausgabe v2.0//DE
VERSION:2.0
METHOD:PUBLISH
BEGIN:VEVENT
DTSTART;VALUE=DATE:20260502
DTEND;VALUE=DATE:20260503
LOCATION:A définir\, \,
TRANSP:OPAQUE
SEQUENCE:0
UID:888-veranstaltung@paroisse-rondchatel.ch
DTSTAMP:20250821T133447Z
DESCRIPTION:Spiritualité dans la tradition réformée.\n\n\nKontakt: Anne
  Noverraz\n\nOlivier Jordi\n\nWeitere Infos:
  https://www.paroisse-rondchatel.ch/veranstaltung/888
SUMMARY:Cycle III 10H Spiritualité das la tradition réformée
PRIORITY:5
X-MICROSOFT-CDO-IMPORTANCE:1
CLASS:PUBLIC
END:VEVENT
END:VCALENDAR
