BEGIN:VCALENDAR
PRODID:-//kirchenweb.ch gmbh//veranstaltungsausgabe v2.0//DE
VERSION:2.0
METHOD:PUBLISH
BEGIN:VEVENT
DTSTART:20241126T190000Z
DTEND:20241126T210000Z
LOCATION:Orvin Eglise\, Longchamps\, 2534 Orvin
TRANSP:OPAQUE
SEQUENCE:0
UID:511-veranstaltung@paroisse-rondchatel.ch
DTSTAMP:20241112T070117Z
DESCRIPTION:Ordre du jour:\n1.   Salutations\n2.   Nomination des
  scrutateurs\n3.   Méditation\n4.   Approbation du procès-verbal de
  l'assemblée du 18 juin 2024\n5.   Elections de deux membres du conseil
  de paroisse (législature 2022-2025)\n6.   Nomination de l'organe de
  vérification des comptes\n7.   Budget 2025:\n      a) présentation et
  discussion\n      b) approbation de la quotité d'impôt \n      c)
  approbation du budget 2025\n8.   Plan financier\, informations\n9.  
  Synodes d'arrondissement\, compte rendu\n10. Informations\n      a) des
  pasteur-e-s\n      b) des catéchètes professionnel-le-s\n      c) du
  conseil de paroisse\n11. Divers et imprévus\n\nKontakt:
  claire-lise.bourquin@paroisse-rondchatel.ch\n\nWeitere Infos:
  https://www.paroisse-rondchatel.ch/veranstaltung/511
SUMMARY:Assemblée de paroisse
PRIORITY:5
X-MICROSOFT-CDO-IMPORTANCE:1
CLASS:PUBLIC
END:VEVENT
END:VCALENDAR
