BEGIN:VCALENDAR
PRODID:-//kirchenweb.ch gmbh//veranstaltungsausgabe v2.0//DE
VERSION:2.0
METHOD:PUBLISH
BEGIN:VEVENT
DTSTART:20240914T070000Z
DTEND:20240914T113000Z
LOCATION:Salle du Foyer\, Moutier\, Rue du Clos 3\, 2740 Moutier
TRANSP:OPAQUE
SEQUENCE:0
UID:386-veranstaltung@paroisse-rondchatel.ch
DTSTAMP:20240827T115938Z
DESCRIPTION:Kontakt: Olivier Jordi\n\nWeitere Infos:
  https://www.paroisse-rondchatel.ch/veranstaltung/386
SUMMARY:Spectacle "Les Théopopettes"
PRIORITY:5
X-MICROSOFT-CDO-IMPORTANCE:1
CLASS:PUBLIC
END:VEVENT
END:VCALENDAR
