BEGIN:VCALENDAR
PRODID:-//kirchenweb.ch gmbh//veranstaltungsausgabe v2.0//DE
VERSION:2.0
METHOD:PUBLISH
BEGIN:VEVENT
DTSTART:20240913T160000Z
DTEND:20240913T170000Z
LOCATION:Les Mottes\, Les Mottes 91\, 2362 Montfaucon
TRANSP:OPAQUE
SEQUENCE:0
UID:365-veranstaltung@paroisse-rondchatel.ch
DTSTAMP:20240821T125822Z
DESCRIPTION:Kontakt: Anne Noverraz 079 852 98 77\nCamp du vendredi 13
  septembre au 15 septembre 9H et 10H\n\nnoverraz.plagne@swisslogique.ch
 \nValérie Gafa 078 218 07 47\nvalerie.gafa@gmail.com\n\nWeitere Infos:
  https://www.paroisse-rondchatel.ch/veranstaltung/365
SUMMARY:Cycle III 9 et 10H camp les Mottes
PRIORITY:5
X-MICROSOFT-CDO-IMPORTANCE:1
CLASS:PUBLIC
END:VEVENT
END:VCALENDAR
