BEGIN:VCALENDAR
PRODID:-//kirchenweb.ch gmbh//veranstaltungsausgabe v2.0//DE
VERSION:2.0
METHOD:PUBLISH
BEGIN:VEVENT
DTSTART:20241124T090000Z
DTEND:20241124T100000Z
LOCATION:Péry Eglise\, Rue du Montoz\, 2603 Péry-La Heutte
TRANSP:OPAQUE
SEQUENCE:0
UID:358-veranstaltung@paroisse-rondchatel.ch
DTSTAMP:20240903T140206Z
DESCRIPTION:Kontakt: Pasteure Valérie Gafa\n\nWeitere Infos:
  https://www.paroisse-rondchatel.ch/veranstaltung/358
SUMMARY:Culte de l'Eternité
PRIORITY:5
X-MICROSOFT-CDO-IMPORTANCE:1
CLASS:PUBLIC
END:VEVENT
END:VCALENDAR
