BEGIN:VCALENDAR
PRODID:-//kirchenweb.ch gmbh//veranstaltungsausgabe v2.0//DE
VERSION:2.0
METHOD:PUBLISH
BEGIN:VEVENT
DTSTART:20241123T080000Z
DTEND:20241123T103000Z
LOCATION:Orvin Grain de Sel\, Longchamps\, 2534 Orvin
TRANSP:OPAQUE
SEQUENCE:0
UID:334-veranstaltung@paroisse-rondchatel.ch
DTSTAMP:20240827T115506Z
DESCRIPTION:Kontakt: Olivier Jordi\n\nWeitere Infos:
  https://www.paroisse-rondchatel.ch/veranstaltung/334
SUMMARY:Rencontre - Préparation de Noël
PRIORITY:5
X-MICROSOFT-CDO-IMPORTANCE:1
CLASS:PUBLIC
END:VEVENT
END:VCALENDAR
