BEGIN:VCALENDAR
PRODID:-//kirchenweb.ch gmbh//veranstaltungsausgabe v2.0//DE
VERSION:2.0
METHOD:PUBLISH
BEGIN:VEVENT
DTSTART;VALUE=DATE:20240628
DTEND;VALUE=DATE:20240629
LOCATION:Cormoret\, \,
TRANSP:OPAQUE
SEQUENCE:0
UID:305-veranstaltung@paroisse-rondchatel.ch
DTSTAMP:20240325T143856Z
DESCRIPTION:Salon de la musique\nPlus de détails en temps voulu\n
 \nKontakt: Frédy Villard\n\nWeitere Infos:
  https://www.paroisse-rondchatel.ch/veranstaltung/305
SUMMARY:La Retrouvaille
PRIORITY:5
X-MICROSOFT-CDO-IMPORTANCE:1
CLASS:PUBLIC
END:VEVENT
END:VCALENDAR
