BEGIN:VCALENDAR
PRODID:-//kirchenweb.ch gmbh//veranstaltungsausgabe v2.0//DE
VERSION:2.0
METHOD:PUBLISH
BEGIN:VEVENT
DTSTART:20240907T060000Z
DTEND:20240907T160000Z
LOCATION:Orvin Grain de Sel\, Longchamps\, 2534 Orvin
TRANSP:OPAQUE
SEQUENCE:0
UID:250-veranstaltung@paroisse-rondchatel.ch
DTSTAMP:20240325T082819Z
DESCRIPTION:Kontakt: Valérie Gafa\n\nWeitere Infos:
  https://www.paroisse-rondchatel.ch/veranstaltung/250
SUMMARY:Samedi familles
PRIORITY:5
X-MICROSOFT-CDO-IMPORTANCE:1
CLASS:PUBLIC
END:VEVENT
END:VCALENDAR
