BEGIN:VCALENDAR
PRODID:-//kirchenweb.ch gmbh//veranstaltungsausgabe v2.0//DE
VERSION:2.0
METHOD:PUBLISH
BEGIN:VEVENT
DTSTART:20241123T120000Z
DTEND:20241123T160000Z
LOCATION:Péry Salle de paroisse\, Rue du Collège 12\, 2603 Péry-La
  Heutte
TRANSP:OPAQUE
SEQUENCE:0
UID:212-veranstaltung@paroisse-rondchatel.ch
DTSTAMP:20241104T071428Z
DESCRIPTION:Marché artisanal de Noël 2024 au centre communal de Péry.\n
 \nKontakt: Nicole Loriol\n\nWeitere Infos:
  https://www.paroisse-rondchatel.ch/veranstaltung/212
SUMMARY:Marché artisanal de Noël
PRIORITY:5
X-MICROSOFT-CDO-IMPORTANCE:1
CLASS:PUBLIC
END:VEVENT
END:VCALENDAR
