BEGIN:VCALENDAR
PRODID:-//kirchenweb.ch gmbh//veranstaltungsausgabe v2.0//DE
VERSION:2.0
METHOD:PUBLISH
BEGIN:VEVENT
DTSTART:20260425T120000Z
DTEND:20260425T160000Z
LOCATION:Orvin Cure\, Rue de la Charrière 4\, 2534 Orvin
TRANSP:OPAQUE
SEQUENCE:0
UID:1236-veranstaltung@paroisse-rondchatel.ch
DTSTAMP:20260421T103024Z
DESCRIPTION:Kontakt: Céline Zürcher\n\nWeitere Infos:
  https://www.paroisse-rondchatel.ch/veranstaltung/1236
SUMMARY:Rencontre de Jeunesse
PRIORITY:5
X-MICROSOFT-CDO-IMPORTANCE:1
CLASS:PUBLIC
END:VEVENT
END:VCALENDAR
