BEGIN:VCALENDAR
PRODID:-//kirchenweb.ch gmbh//veranstaltungsausgabe v2.0//DE
VERSION:2.0
METHOD:PUBLISH
BEGIN:VEVENT
DTSTART:20260628T080000Z
DTEND:20260628T090000Z
LOCATION:Péry Eglise\, Rue du Montoz\, 2603 Péry-La Heutte
TRANSP:OPAQUE
SEQUENCE:0
UID:1108-veranstaltung@paroisse-rondchatel.ch
DTSTAMP:20260209T084507Z
DESCRIPTION:Kontakt: Pasteur Gilles Bourquin\n\nWeitere Infos:
  https://www.paroisse-rondchatel.ch/veranstaltung/1108
SUMMARY:Culte
PRIORITY:5
X-MICROSOFT-CDO-IMPORTANCE:1
CLASS:PUBLIC
END:VEVENT
END:VCALENDAR
