BEGIN:VCALENDAR
PRODID:-//kirchenweb.ch gmbh//veranstaltungsausgabe v2.0//DE
VERSION:2.0
METHOD:PUBLISH
BEGIN:VEVENT
DTSTART:20260514T080000Z
DTEND:20260514T090000Z
LOCATION:Orvin Eglise\, Longchamps\, 2534 Orvin
TRANSP:OPAQUE
SEQUENCE:0
UID:1101-veranstaltung@paroisse-rondchatel.ch
DTSTAMP:20260327T224432Z
DESCRIPTION:Kontakt: Pasteur Philippe Nicolet\n\nWeitere Infos:
  https://www.paroisse-rondchatel.ch/veranstaltung/1101
SUMMARY:Culte du jeudi de l'Ascension
PRIORITY:5
X-MICROSOFT-CDO-IMPORTANCE:1
CLASS:PUBLIC
END:VEVENT
END:VCALENDAR
