BEGIN:VCALENDAR
PRODID:-//kirchenweb.ch gmbh//veranstaltungsausgabe v2.0//DE
VERSION:2.0
METHOD:PUBLISH
BEGIN:VEVENT
DTSTART:20261030T110000Z
DTEND:20261030T140000Z
LOCATION:Orvin Cure\, INCONNU\, 2534 Orvin
TRANSP:OPAQUE
SEQUENCE:0
UID:1093-veranstaltung@paroisse-rondchatel.ch
DTSTAMP:20260129T170704Z
DESCRIPTION:Kontakt: val\nValérie Gafa\n\nWeitere Infos:
  https://www.paroisse-rondchatel.ch/veranstaltung/1093
SUMMARY:La Retrouvaille
PRIORITY:5
X-MICROSOFT-CDO-IMPORTANCE:1
CLASS:PUBLIC
END:VEVENT
END:VCALENDAR
