BEGIN:VCALENDAR
PRODID:-//kirchenweb.ch gmbh//veranstaltungsausgabe v2.0//DE
VERSION:2.0
METHOD:PUBLISH
BEGIN:VEVENT
DTSTART:20260510T080000Z
DTEND:20260510T090000Z
LOCATION:Vauffelin Eglise\, Chemin de l'Eglise\, 2537 Vauffelin
TRANSP:OPAQUE
SEQUENCE:0
UID:1081-veranstaltung@paroisse-rondchatel.ch
DTSTAMP:20260327T224412Z
DESCRIPTION:Kontakt: Pasteur Gilles Bourquin\n\nWeitere Infos:
  https://www.paroisse-rondchatel.ch/veranstaltung/1081
SUMMARY:Culte
PRIORITY:5
X-MICROSOFT-CDO-IMPORTANCE:1
CLASS:PUBLIC
END:VEVENT
END:VCALENDAR
