BEGIN:VCALENDAR
PRODID:-//kirchenweb.ch gmbh//veranstaltungsausgabe v2.0//DE
VERSION:2.0
METHOD:PUBLISH
BEGIN:VEVENT
DTSTART:20260503T080000Z
DTEND:20260503T090000Z
LOCATION:Orvin Eglise\, Longchamps\, 2534 Orvin
TRANSP:OPAQUE
SEQUENCE:0
UID:1079-veranstaltung@paroisse-rondchatel.ch
DTSTAMP:20260417T070704Z
DESCRIPTION:Installation du catéchète professionnel Olivier Jordi.
 \nBaptême.\nLe culte sera suivi d'un apéritif.\n\nKontakt: Pasteure
  Valérie Gafa\, Christian Borle\n\nWeitere Infos:
  https://www.paroisse-rondchatel.ch/veranstaltung/1079
SUMMARY:Culte d'installation
PRIORITY:5
X-MICROSOFT-CDO-IMPORTANCE:1
CLASS:PUBLIC
END:VEVENT
END:VCALENDAR
