BEGIN:VCALENDAR
PRODID:-//kirchenweb.ch gmbh//veranstaltungsausgabe v2.0//DE
VERSION:2.0
METHOD:PUBLISH
BEGIN:VEVENT
DTSTART:20260617T120000Z
DTEND:20260617T143000Z
LOCATION:Péry Salle de paroisse\, Rue du Collège 12\, 2603 Péry-La
  Heutte
TRANSP:OPAQUE
SEQUENCE:0
UID:1008-veranstaltung@paroisse-rondchatel.ch
DTSTAMP:20260105T144817Z
DESCRIPTION:Après-midi mensuelle de jeux pour les aînés de Péry-La
  Heutte. Il n'est pas nécessaire de s'inscrire pour cette activité.\n
 \nKontakt: Susanne Merkelbach\n079 547 72 60\n\nWeitere Infos:
  https://www.paroisse-rondchatel.ch/veranstaltung/1008
SUMMARY:Après-midi jeux des aînés
PRIORITY:5
X-MICROSOFT-CDO-IMPORTANCE:1
CLASS:PUBLIC
END:VEVENT
END:VCALENDAR
